BEGIN:VCALENDAR
VERSION:2.0
PRODID:-//Squarespace Inc/Squarespace 6//v6//EN
BEGIN:VEVENT
UID:5f62b773191e4255845dea0f@squarespace.com
DTSTAMP:20200923T025715Z
DTSTART:20201010T053000Z
DTEND:20201010T063000Z
SUMMARY:Duets
GEO:-41.293583;174.784617
LOCATION:The Random Stage at BATS Theatre\, 1 Kent Terrace\, Wellington\, W
 ellington\, 6011\, New Zealand
END:VEVENT
END:VCALENDAR
