BEGIN:VCALENDAR
VERSION:2.0
PRODID:-//Squarespace Inc/Squarespace 6//v6//EN
BEGIN:VEVENT
UID:5f603230a6dcdd5b47e0977a@squarespace.com
DTSTAMP:20200923T025723Z
DTSTART:20201010T070000Z
DTEND:20201010T081500Z
SUMMARY:NZ vs The World: Close To Home Edition
GEO:-41.293583;174.784617
LOCATION:The Random Stage at BATS Theatre\, 1 Kent Terrace\, Wellington\, W
 ellington\, 6011\, New Zealand
END:VEVENT
END:VCALENDAR
