BEGIN:VCALENDAR
VERSION:2.0
PRODID:-//Squarespace Inc/Squarespace 6//v6//EN
BEGIN:VEVENT
UID:5f63fc4c40e1a14ef6afc256@squarespace.com
DTSTAMP:20200923T025532Z
DTSTART:20201004T070000Z
DTEND:20201004T081500Z
SUMMARY:Virtually There: Improv Comedy Calling
GEO:-41.278508;174.788991
LOCATION:Facebook Live
END:VEVENT
END:VCALENDAR
