BEGIN:VCALENDAR
VERSION:2.0
PRODID:-//Squarespace Inc/Squarespace 6//v6//EN
BEGIN:VEVENT
UID:5f65693b30f837311dcc60df@squarespace.com
DTSTAMP:20200923T025525Z
DTSTART:20201004T053000Z
DTEND:20201004T063000Z
SUMMARY:Ziggy Montgomery's Time Travel Facebook Live Show
GEO:-41.278508;174.788991
LOCATION:Facebook Live
END:VEVENT
END:VCALENDAR
