BEGIN:VCALENDAR
VERSION:2.0
PRODID:-//Squarespace Inc/Squarespace 6//v6//EN
BEGIN:VEVENT
UID:5f63fe04bd345e53fdecb7bb@squarespace.com
DTSTAMP:20200923T025556Z
DTSTART:20201006T083000Z
DTEND:20201006T093000Z
SUMMARY:Dance. Dance. Have Feelings.
GEO:-41.293583;174.784617
LOCATION:The Random Stage at BATS Theatre\, 1 Kent Terrace\, Wellington\, W
 ellington\, 6011\, New Zealand
END:VEVENT
END:VCALENDAR
