BEGIN:VCALENDAR
VERSION:2.0
PRODID:-//Squarespace Inc/Squarespace 6//v6//EN
BEGIN:VEVENT
UID:5f62d036a362f94e0a9bfc53@squarespace.com
DTSTAMP:20200923T025539Z
DTSTART:20201006T053000Z
DTEND:20201006T063000Z
SUMMARY:Here's a Thing: NZIF Opening Showcase
GEO:-41.293583;174.784617
LOCATION:The Random Stage at BATS Theatre\, 1 Kent Terrace\, Wellington\, W
 ellington\, 6011\, New Zealand
END:VEVENT
END:VCALENDAR
