BEGIN:VCALENDAR
VERSION:2.0
PRODID:-//Squarespace Inc/Squarespace 6//v6//EN
BEGIN:VEVENT
UID:5f62da6cf778751e69f3f05c@squarespace.com
DTSTAMP:20200923T025548Z
DTSTART:20201006T070000Z
DTEND:20201006T080000Z
SUMMARY:The Musical: The Musical
GEO:-41.293583;174.784617
LOCATION:The Heyday Dome at BATS Theatre\, 1 Kent Terrace\, Wellington\, We
 llington\, 6011\, New Zealand
END:VEVENT
END:VCALENDAR
