BEGIN:VCALENDAR
VERSION:2.0
PRODID:-//Squarespace Inc/Squarespace 6//v6//EN
BEGIN:VEVENT
UID:5f62c54c02bc4a6aa0af5d96@squarespace.com
DTSTAMP:20200925T010836Z
DTSTART:20201007T053000Z
DTEND:20201007T063000Z
SUMMARY:Chekhov's Prop
GEO:-41.293583;174.784617
LOCATION:The Random Stage at BATS Theatre\, 1 Kent Terrace\, Wellington\, W
 ellington\, 6011\, New Zealand
END:VEVENT
END:VCALENDAR
