BEGIN:VCALENDAR
VERSION:2.0
PRODID:-//Squarespace Inc/Squarespace 6//v6//EN
BEGIN:VEVENT
UID:5f62c67340b31f4a14337c32@squarespace.com
DTSTAMP:20200923T025618Z
DTSTART:20201007T083000Z
DTEND:20201007T094500Z
SUMMARY:Double Header: Question Time / Doom &amp\; Bloom's Terrifying Rolle
 rcoaster 
GEO:-41.293583;174.784617
LOCATION:The Random Stage at BATS Theatre\, 1 Kent Terrace\, Wellington\, W
 ellington\, 6011\, New Zealand
END:VEVENT
END:VCALENDAR
