BEGIN:VCALENDAR
VERSION:2.0
PRODID:-//Squarespace Inc/Squarespace 6//v6//EN
BEGIN:VEVENT
UID:5f67003a16749133500b05d5@squarespace.com
DTSTAMP:20200923T025611Z
DTSTART:20201007T070000Z
DTEND:20201007T080000Z
SUMMARY:One Act/Play
GEO:-41.293583;174.784617
LOCATION:The Heyday Dome at BATS Theatre\, 1 Kent Terrace\, Wellington\, We
 llington\, 6011\, New Zealand
END:VEVENT
END:VCALENDAR
