BEGIN:VCALENDAR
VERSION:2.0
PRODID:-//Squarespace Inc/Squarespace 6//v6//EN
BEGIN:VEVENT
UID:5f62cd51191e42558460fd78@squarespace.com
DTSTAMP:20200923T025644Z
DTSTART:20201008T083000Z
DTEND:20201008T094500Z
SUMMARY:Double Header: Little Big Lies / ¡Escándalo!
GEO:-41.293583;174.784617
LOCATION:The Random Stage at BATS Theatre\, 1 Kent Terrace\, Wellington\, W
 ellington\, 6011\, New Zealand
END:VEVENT
END:VCALENDAR
