BEGIN:VCALENDAR
VERSION:2.0
PRODID:-//Squarespace Inc/Squarespace 6//v6//EN
BEGIN:VEVENT
UID:5f62b342f68bdc0c1a7b3817@squarespace.com
DTSTAMP:20200923T025635Z
DTSTART:20201008T070000Z
DTEND:20201008T080000Z
SUMMARY:Talofa Papa
GEO:-41.293583;174.784617
LOCATION:The Heyday Dome at BATS Theatre\, 1 Kent Terrace\, Wellington\, We
 llington\, 6011\, New Zealand
END:VEVENT
END:VCALENDAR
