BEGIN:VCALENDAR
VERSION:2.0
PRODID:-//Squarespace Inc/Squarespace 6//v6//EN
BEGIN:VEVENT
UID:5f62aff7749a0348ff25bbb3@squarespace.com
DTSTAMP:20200923T025626Z
DTSTART:20201008T053000Z
DTEND:20201008T063000Z
SUMMARY: Waste Not Want Not: Bethany’s Guide to the Thrift Life
GEO:-41.293583;174.784617
LOCATION:The Random Stage at BATS Theatre\, 1 Kent Terrace\, Wellington\, W
 ellington\, 6011\, New Zealand
END:VEVENT
END:VCALENDAR
