BEGIN:VCALENDAR
VERSION:2.0
PRODID:-//Squarespace Inc/Squarespace 6//v6//EN
BEGIN:VEVENT
UID:5f62b4b3ac0c226baee5270d@squarespace.com
DTSTAMP:20200923T025653Z
DTSTART:20201009T053000Z
DTEND:20201009T063000Z
SUMMARY:Close
GEO:-41.293583;174.784617
LOCATION:The Random Stage at BATS Theatre\, 1 Kent Terrace\, Wellington\, W
 ellington\, 6011\, New Zealand
END:VEVENT
END:VCALENDAR
