BEGIN:VCALENDAR
VERSION:2.0
PRODID:-//Squarespace Inc/Squarespace 6//v6//EN
BEGIN:VEVENT
UID:5f62ce3bc9d51c5d00b58899@squarespace.com
DTSTAMP:20200923T025708Z
DTSTART:20201009T083000Z
DTEND:20201009T094500Z
SUMMARY:Double Header: Hall Monitors: Time Out / Dreadful Midnight
GEO:-41.293583;174.784617
LOCATION:The Random Stage at BATS Theatre\, 1 Kent Terrace\, Wellington\, W
 ellington\, 6011\, New Zealand
END:VEVENT
END:VCALENDAR
