BEGIN:VCALENDAR
VERSION:2.0
PRODID:-//Squarespace Inc/Squarespace 6//v6//EN
BEGIN:VEVENT
UID:5f62b65b44d09a0bbbd95da5@squarespace.com
DTSTAMP:20200923T025701Z
DTSTART:20201009T070000Z
DTEND:20201009T080000Z
SUMMARY:Poe'd
GEO:-41.293583;174.784617
LOCATION:The Heyday Dome at BATS Theatre\, 1 Kent Terrace\, Wellington\, We
 llington\, 6011\, New Zealand
END:VEVENT
END:VCALENDAR
