BEGIN:VCALENDAR
VERSION:2.0
PRODID:-//Squarespace Inc/Squarespace 6//v6//EN
BEGIN:VEVENT
UID:5f6ab6be8ee3967699593613@squarespace.com
DTSTAMP:20200923T025009Z
DTSTART:20201003T010000Z
DTEND:20201003T040000Z
SUMMARY:What was that? Intro to Active Listening
GEO:-41.29625;174.773234
LOCATION:The Community Room at Toi Poneke Arts Centre\, 61-69 Abel Smith St
 reet\, Wellington\, 6011\, New Zealand
END:VEVENT
END:VCALENDAR
