BEGIN:VCALENDAR
VERSION:2.0
PRODID:-//Squarespace Inc/Squarespace 6//v6//EN
BEGIN:VEVENT
UID:5f6aab95a7b2294e5dba908d@squarespace.com
DTSTAMP:20200923T022514Z
DTSTART:20201002T210000Z
DTEND:20201003T000000Z
SUMMARY:Approaching voice and accent work for stage\, screen and voice over
 s
GEO:-41.293583;174.784617
LOCATION:The Dome at BATS Theatre\, 1 Kent Terrace\, Wellington\, Wellingto
 n\, 6011\, New Zealand
END:VEVENT
END:VCALENDAR
