BEGIN:VCALENDAR
VERSION:2.0
PRODID:-//Squarespace Inc/Squarespace 6//v6//EN
BEGIN:VEVENT
UID:5f6aadeba1caaf0042e3cb32@squarespace.com
DTSTAMP:20200923T022527Z
DTSTART:20201003T010000Z
DTEND:20201003T040000Z
SUMMARY:Clown - Keep Breaking the Rhythm
GEO:-41.293583;174.784617
LOCATION:The Random Stage at BATS Theatre\, 1 Kent Terrace\, Wellington\, W
 ellington\, 6011\, New Zealand
END:VEVENT
END:VCALENDAR
