BEGIN:VCALENDAR
VERSION:2.0
PRODID:-//Squarespace Inc/Squarespace 6//v6//EN
BEGIN:VEVENT
UID:5f6ab04d05bd7d5c886dd338@squarespace.com
DTSTAMP:20200923T022543Z
DTSTART:20201003T210000Z
DTEND:20201004T040000Z
SUMMARY:Duets: Balancing the Heart and the Head in Two-Person Improv (FULL 
 DAY WORKSHOP)
GEO:-41.293583;174.784617
LOCATION:The Random Stage at BATS Theatre\, 1 Kent Terrace\, Wellington\, W
 ellington\, 6011\, New Zealand
END:VEVENT
END:VCALENDAR
