BEGIN:VCALENDAR
VERSION:2.0
PRODID:-//Squarespace Inc/Squarespace 6//v6//EN
BEGIN:VEVENT
UID:5f6ab3d3dbee731803822a84@squarespace.com
DTSTAMP:20200923T023606Z
DTSTART:20201009T210000Z
DTEND:20201010T000000Z
SUMMARY:En Pointe
GEO:-41.293583;174.784617
LOCATION:The Heyday Dome at BATS Theatre\, 1 Kent Terrace\, Wellington\, We
 llington\, 6011\, New Zealand
END:VEVENT
END:VCALENDAR
