BEGIN:VCALENDAR
VERSION:2.0
PRODID:-//Squarespace Inc/Squarespace 6//v6//EN
BEGIN:VEVENT
UID:5f6ab53756ec6a605abf8dc4@squarespace.com
DTSTAMP:20200923T024134Z
DTSTART:20201010T010000Z
DTEND:20201010T040000Z
SUMMARY:Facilitating Applied Improv with Community
GEO:-41.293583;174.784617
LOCATION:The Random Stage at BATS Theatre\, 1 Kent Terrace\, Wellington\, W
 ellington\, 6011\, New Zealand
END:VEVENT
END:VCALENDAR
