BEGIN:VCALENDAR
VERSION:2.0
PRODID:-//Squarespace Inc/Squarespace 6//v6//EN
BEGIN:VEVENT
UID:5f6ab7e1d17cb05cb1454eee@squarespace.com
DTSTAMP:20200923T025309Z
DTSTART:20201004T010000Z
DTEND:20201004T040000Z
SUMMARY:Intro to Improv at NZ Improv Fest
GEO:-41.29625;174.773234
LOCATION:The Community Room at Toi Poneke Arts Centre\, 61-69 Abel Smith St
 reet\, Wellington\, 6011\, New Zealand
END:VEVENT
END:VCALENDAR
