BEGIN:VCALENDAR
VERSION:2.0
PRODID:-//Squarespace Inc/Squarespace 6//v6//EN
BEGIN:VEVENT
UID:5f6ab27dec8ebd4ff431bd98@squarespace.com
DTSTAMP:20200923T023015Z
DTSTART:20201004T010000Z
DTEND:20201004T040000Z
SUMMARY:Let's Play With Masks Ay
GEO:-41.293583;174.784617
LOCATION:The Random Stage at BATS Theatre\, 1 Kent Terrace\, Wellington\, W
 ellington\, 6011\, New Zealand
END:VEVENT
END:VCALENDAR
