BEGIN:VCALENDAR
VERSION:2.0
PRODID:-//Squarespace Inc/Squarespace 6//v6//EN
BEGIN:VEVENT
UID:5f6ab496d17cb05cb144f1ec@squarespace.com
DTSTAMP:20200923T023744Z
DTSTART:20201009T210000Z
DTEND:20201010T000000Z
SUMMARY:Making Stuff for Stuff: Improv for Devised Theatre
GEO:-41.293583;174.784617
LOCATION:The Random Stage at BATS Theatre\, 1 Kent Terrace\, Wellington\, W
 ellington\, 6011\, New Zealand
END:VEVENT
END:VCALENDAR
