BEGIN:VCALENDAR
VERSION:2.0
PRODID:-//Squarespace Inc/Squarespace 6//v6//EN
BEGIN:VEVENT
UID:5f6aacb6ce463301f598cdc9@squarespace.com
DTSTAMP:20200923T022508Z
DTSTART:20201002T210000Z
DTEND:20201003T000000Z
SUMMARY:Physicalising the Fun
GEO:-41.293583;174.784617
LOCATION:The Random Stage at BATS Theatre\, 1 Kent Terrace\, Wellington\, W
 ellington\, 6011\, New Zealand
END:VEVENT
END:VCALENDAR
