BEGIN:VCALENDAR
VERSION:2.0
PRODID:-//Squarespace Inc/Squarespace 6//v6//EN
BEGIN:VEVENT
UID:5f6ab5de56ec6a605abf9d88@squarespace.com
DTSTAMP:20201130T224952Z
DTSTART:20201010T010000Z
DTEND:20201010T040000Z
SUMMARY:Quest for the Mystical (Noun)
GEO:-41.293583;174.784617
LOCATION:The Heyday Dome at BATS Theatre\, 1 Kent Terrace\, Wellington\, We
 llington\, 6011\, New Zealand
END:VEVENT
END:VCALENDAR
