BEGIN:VCALENDAR
VERSION:2.0
PRODID:-//Squarespace Inc/Squarespace 6//v6//EN
BEGIN:VEVENT
UID:5f6aaee1a1caaf0042e3e326@squarespace.com
DTSTAMP:20200923T024518Z
DTSTART:20201003T010000Z
DTEND:20201003T040000Z
SUMMARY:The Music’s Started — Now What?
GEO:-41.293583;174.784617
LOCATION:The Heyday Dome at BATS Theatre\, 1 Kent Terrace\, Wellington\, We
 llington\, 6011\, New Zealand
END:VEVENT
END:VCALENDAR
