BEGIN:VCALENDAR
VERSION:2.0
PRODID:-//Squarespace Inc/Squarespace 6//v6//EN
BEGIN:VEVENT
UID:5f6ab1794ea81677b47dd701@squarespace.com
DTSTAMP:20200923T022934Z
DTSTART:20201003T210000Z
DTEND:20201004T000000Z
SUMMARY:Who Is She?
GEO:-41.293583;174.784617
LOCATION:The Heyday Dome at BATS Theatre\, 1 Kent Terrace\, Wellington\, We
 llington\, 6011\, New Zealand
END:VEVENT
END:VCALENDAR
